BEGIN:VCALENDAR
VERSION:2.0
CREATED:20260421T230452Z
PRODID:-//Perimeter Solutions\, Inc./Equisolve Calendar v1.0//EN
METHOD:PUBLISH
BEGIN:VEVENT
UID:ac5e7d96330a05b0e00384ea80b64af4
DTSTAMP:20260423T121827Z
DTSTART:20260506T123000Z
DTEND:20260506T133000Z
SUMMARY:First Quarter 2026 Earnings Call
DESCRIPTION:First Quarter 2026 Earnings Call\nDate: May 6\, 2026 8:30 am EDT\nWebcast: https://event.choruscall.com/mediaframe/webcast.html?webcastid=dz6f03NW
END:VEVENT
END:VCALENDAR
